BEGIN:VCALENDAR
VERSION:2.0
PRODID:-//RavenWerks Guild - ECPv6.15.20//NONSGML v1.0//EN
CALSCALE:GREGORIAN
METHOD:PUBLISH
X-ORIGINAL-URL:https://ravenwerksguild.com
X-WR-CALDESC:Events for RavenWerks Guild
REFRESH-INTERVAL;VALUE=DURATION:PT1H
X-Robots-Tag:noindex
X-PUBLISHED-TTL:PT1H
BEGIN:VTIMEZONE
TZID:UTC
BEGIN:STANDARD
TZOFFSETFROM:+0000
TZOFFSETTO:+0000
TZNAME:UTC
DTSTART:20220101T000000
END:STANDARD
END:VTIMEZONE
BEGIN:VEVENT
DTSTART;TZID=UTC:20241123T100000
DTEND;TZID=UTC:20241123T170000
DTSTAMP:20260425T174742
CREATED:20241020T080312Z
LAST-MODIFIED:20241021T203541Z
UID:3801-1732356000-1732381200@ravenwerksguild.com
SUMMARY:Astraea's Big Bridal Blowout
DESCRIPTION:YOO- HOO Big Bridal Blowout is BACK! NOVEMBER 23RD! Astraea Bridal will have bridal gowns for $400 and veils for 20 bucks! What a deal 🔥RavenWerks will be there with Snacks\, and to answer any catering questions we can. 🥂⁠ Drinks will also be available! \n⁠\n🧡By appointment only! ⁠\n🧡 Appointments are 45 minutes\n🧡Bride plus 1 guest⁠ \nAstraea Bridal is a Member of Emerald Hour and one of our favorite Sustainably vetted wedding vendors! \nBOOK YOUR SLOT NOW!
URL:https://ravenwerksguild.com/event/astraeas-big-bridal-blowout/
LOCATION:Astraea Bridal Boutique\, 324 South 1st Street\, Mt. Vernon\, 98273\, United States
CATEGORIES:Events
ATTACH;FMTTYPE=image/png:https://ravenwerksguild.com/wp-content/uploads/2024/10/bridal-blowout.png
ORGANIZER;CN="Astraea Bridal":MAILTO:info@astraeabridal.com
END:VEVENT
BEGIN:VEVENT
DTSTART;TZID=UTC:20241102T180000
DTEND;TZID=UTC:20241102T210000
DTSTAMP:20260425T174742
CREATED:20241020T074724Z
LAST-MODIFIED:20241020T074724Z
UID:3796-1730570400-1730581200@ravenwerksguild.com
SUMMARY:Mt. Vernon Sip N Shop
DESCRIPTION:Join us for a fun-filled evening at Ladies Night Out in Downtown Mount Vernon! Grab your girlfriends and get ready for a night of sipping wines from woman wine makers across the state\, supporting small businesses\, and enjoying ticket holder deals & other special events.\nGet a head start on your holiday shopping\, or unwind and enjoy some quality time with your besties. However you do it\, don’t miss out on this beloved annual event!\n\nRavenWerks will be serving small bites and desserts at the Astraea Bridal Shop! Stop by and say Hi!\n\nfind information about tickets here.
URL:https://ravenwerksguild.com/event/mt-vernon-sip-n-shop/
CATEGORIES:Events,Markets
ATTACH;FMTTYPE=image/jpeg:https://ravenwerksguild.com/wp-content/uploads/2024/10/sip-n-shop.jpg
END:VEVENT
BEGIN:VEVENT
DTSTART;TZID=UTC:20241027T180000
DTEND;TZID=UTC:20241027T210000
DTSTAMP:20260425T174742
CREATED:20241020T075340Z
LAST-MODIFIED:20241020T075340Z
UID:3799-1730052000-1730062800@ravenwerksguild.com
SUMMARY:2024 Witches' Benefit Ball
DESCRIPTION:Join RavenWerks for our Annual Witches Benefit Ball!\nDon your most magical formal wear to wine and dine while supporting local causes. Catered\, coordinated\, and curated by RavenWerks\, this is sure to be a night to remember.\nWhen: October 27th 6pm-9pm\nWhere: The Mirkwood in Arlington\, WA has donated their space outside business hours for our private event. The address is 117 E Division St\, Arlington\, WA 98223 but additional directions and parking information will be emailed.\nDress Code: Formal Cocktail Attire w/ a Witchy Twist (there will be an award for best dressed)\nWhat: A 21+\, private witchy soiree where all the proceeds go to Sustainable NW and Purrfect Pals. Your ticket includes:\n-2 RavenWerks Signature Cocktail Drinks (choice between several alcoholic cocktails\, a mocktail\, and a house wine)-Grazing Table and Dessert Spread-Grab bag with local goodies and guide-1 raffle ticket (more for purchase at the door OR with a donation of any of THESE items): https://ravenwerksguild.com/2024-witches-benifit-ball/#purr-Tarot Readings-Use of photobooth\nTickets are $60 each OR $100 for 2 if bought in advance online (here) as prefered. If you purchase at the door (sometimes accidents happen or an extra person wants to tag along)\nPlease visit the events page HERE for additional information on the event\, donation lists\, etc.: https://ravenwerksguild.com/2024-witches-benifit-ball/
URL:https://ravenwerksguild.com/event/2024-witches-benefit-ball/
LOCATION:Mirkwood Public House\, Arligton\, WA\, 117 E Division St\, Arlington\, WA\, 98223\, United States
CATEGORIES:Events
ATTACH;FMTTYPE=image/png:https://ravenwerksguild.com/wp-content/uploads/2024/08/Online-Witches-Benifit-1-2.png
END:VEVENT
BEGIN:VEVENT
DTSTART;TZID=UTC:20240720T100000
DTEND;TZID=UTC:20240720T170000
DTSTAMP:20260425T174742
CREATED:20240716T190814Z
LAST-MODIFIED:20240716T190814Z
UID:3203-1721469600-1721494800@ravenwerksguild.com
SUMMARY:Mirkwood's Magickal Bazaar
DESCRIPTION:Come check out the Guild’s Market Booth at Mirkwood’s Magickal Bazaar! It will look a bit different than our online store as we have focused more on the small batch DIY products that we are still in the process of adding to our online platform.\nSmall batch candles\nAromatherapy microwavable heat packs\nMagical/witchy decor\nBath Soaks and Self-Care\nPaper Ephemera\nArt Findings and more!\nWe are also officially starting signup sheets for interest in classes relating to DIY\, art\, DnD\, sustainability\, and gardening. \nThis Market will have several giveaways and an exciting announcement!
URL:https://ravenwerksguild.com/event/mirkwoods-magickal-bazaar/
LOCATION:Mirkwood Public House\, Arligton\, WA\, 117 E Division St\, Arlington\, WA\, 98223\, United States
CATEGORIES:Events,Markets
ATTACH;FMTTYPE=image/jpeg:https://ravenwerksguild.com/wp-content/uploads/2024/07/magickal-bazaar.jpg
END:VEVENT
BEGIN:VEVENT
DTSTART;TZID=UTC:20240406T100000
DTEND;TZID=UTC:20240406T170000
DTSTAMP:20260425T174742
CREATED:20240209T010153Z
LAST-MODIFIED:20240209T010153Z
UID:2708-1712397600-1712422800@ravenwerksguild.com
SUMMARY:Mirkwood Magical Bazaar
DESCRIPTION:Come check out the guild’s market booth at Mirkwood’s Metaphysical Market! It will look a bit different than our online store as we have focused more on the small batch DIY products that we are still in the process of adding to our online platform.\nSmall batch candles\nAromatherapy microwavable heat packs\nMagical/witchy decor\nBath soaks\nSoaks\nPaper Ephemera\nArt Findings and more!\nWe are also officially starting signup sheets for interest in classes relating to DIY\, art\, DnD\, sustainability\, and gardening.
URL:https://ravenwerksguild.com/event/mirkwood-magical-bazaar-4/
LOCATION:Mirkwood Public House\, Arligton\, WA\, 117 E Division St\, Arlington\, WA\, 98223\, United States
CATEGORIES:Markets
ATTACH;FMTTYPE=image/jpeg:https://ravenwerksguild.com/wp-content/uploads/2024/02/421727623_10225153362362475_6024057805725869905_n.jpg
END:VEVENT
BEGIN:VEVENT
DTSTART;TZID=UTC:20240316T100000
DTEND;TZID=UTC:20240316T170000
DTSTAMP:20260425T174742
CREATED:20240209T003848Z
LAST-MODIFIED:20240209T003848Z
UID:2705-1710583200-1710608400@ravenwerksguild.com
SUMMARY:Mirkwood Magical Bazaar
DESCRIPTION:Come check out the guild’s market booth at Mirkwood’s Metaphysical Market! It will look a bit different than our online store as we have focused more on the small batch DIY products that we are still in the process of adding to our online platform.\nSmall batch candles\nAromatherapy microwavable heat packs\nMagical/witchy decor\nBath soaks\nSoaks\nPaper Ephemera\nArt Findings and more!\nWe are also officially starting signup sheets for interest in classes relating to DIY\, art\, DnD\, sustainability\, and gardening.
URL:https://ravenwerksguild.com/event/mirkwood-magical-bazaar-3/
LOCATION:Mirkwood Public House\, Arligton\, WA\, 117 E Division St\, Arlington\, WA\, 98223\, United States
CATEGORIES:Markets
ATTACH;FMTTYPE=image/jpeg:https://ravenwerksguild.com/wp-content/uploads/2024/02/421727623_10225153362362475_6024057805725869905_n.jpg
END:VEVENT
BEGIN:VEVENT
DTSTART;TZID=UTC:20240302T100000
DTEND;TZID=UTC:20240302T170000
DTSTAMP:20260425T174742
CREATED:20240209T003544Z
LAST-MODIFIED:20240209T005341Z
UID:2702-1709373600-1709398800@ravenwerksguild.com
SUMMARY:Mirkwood Magical Bazaar
DESCRIPTION:Come check out the guild’s market booth at Mirkwood’s Metaphysical Market! It will look a bit different than our online store as we have focused more on the small batch DIY products that we are still in the process of adding to our online platform.\nSmall batch candles\nAromatherapy microwavable heat packs\nMagical/witchy decor\nBath soaks\nSoaks\nPaper Ephemera\nArt Findings and more!\nWe are also officially starting signup sheets for interest in classes relating to DIY\, art\, DnD\, sustainability\, and gardening.
URL:https://ravenwerksguild.com/event/mirkwood-magical-bazaar-2/
LOCATION:Mirkwood Public House\, Arligton\, WA\, 117 E Division St\, Arlington\, WA\, 98223\, United States
CATEGORIES:Events
ATTACH;FMTTYPE=image/jpeg:https://ravenwerksguild.com/wp-content/uploads/2024/02/421727623_10225153362362475_6024057805725869905_n.jpg
END:VEVENT
BEGIN:VEVENT
DTSTART;TZID=UTC:20240217T100000
DTEND;TZID=UTC:20240217T170000
DTSTAMP:20260425T174742
CREATED:20240206T011047Z
LAST-MODIFIED:20240206T011047Z
UID:2692-1708164000-1708189200@ravenwerksguild.com
SUMMARY:Mirkwood Magical Bazaar
DESCRIPTION:Come check out the guild’s market booth at Mirkwood’s Magical  Bazaar! It will look a bit different than our online store as we have focused more on the small batch DIY products that we are still in the process of adding to our online platform. \nSmall batch candles\nAromatherapy microwavable heat packs\nMagical/witchy decor\nBath soaks\nSoaks\nPaper Ephemera\nArt Findings and more! \nWe are also officially starting signup sheets for interest in classes relating to DIY\, art\, DnD\, sustainability\, and gardening.
URL:https://ravenwerksguild.com/event/mirkwood-magical-bazaar/
LOCATION:Mirkwood Public House\, Arligton\, WA\, 117 E Division St\, Arlington\, WA\, 98223\, United States
CATEGORIES:Markets
ATTACH;FMTTYPE=image/jpeg:https://ravenwerksguild.com/wp-content/uploads/2024/02/422123927_10225153362242472_5510477654405909779_n-1.jpg
END:VEVENT
BEGIN:VEVENT
DTSTART;TZID=UTC:20240120T100000
DTEND;TZID=UTC:20240120T170000
DTSTAMP:20260425T174742
CREATED:20240119T034252Z
LAST-MODIFIED:20240119T052154Z
UID:2564-1705744800-1705770000@ravenwerksguild.com
SUMMARY:The Metaphysical Market
DESCRIPTION:Come check out the guilds very first in person market booth! It will look a bit different than our online store as we have focused more on the small batch DIY products we are hoping to bring to the online store in the near future. \nSmall batch candles \nAromatherapy microwavable heat packs \nMagical/witchy decor \nBath soaks and more!
URL:https://ravenwerksguild.com/event/the-metaphysical-market/
LOCATION:Mirkwood Public House\, Arligton\, WA\, 117 E Division St\, Arlington\, WA\, 98223\, United States
CATEGORIES:Markets
ATTACH;FMTTYPE=image/jpeg:https://ravenwerksguild.com/wp-content/uploads/2024/01/416307770_10225085314101311_4465556146126936389_n.jpg
END:VEVENT
BEGIN:VEVENT
DTSTART;TZID=UTC:20231221T170000
DTEND;TZID=UTC:20231221T200000
DTSTAMP:20260425T174742
CREATED:20231217T002057Z
LAST-MODIFIED:20231217T002057Z
UID:2525-1703178000-1703188800@ravenwerksguild.com
SUMMARY:Art Livestream: Loom Knitting a Beanie
DESCRIPTION:Join RavenWerks for their first art livestream on our instagram where we work on art projects either solo or in a group… and we see where it takes us! Sometimes we will have relaxing music\, watch anime\, chat about a topic or teach as we go. \nTODAYS PROJECT: Loom knitting beanies… depending on time we may get to making pom poms and knitting matching mittens.
URL:https://ravenwerksguild.com/event/art-livestream-loom-knitting-a-beanie/
LOCATION:ONLINE
CATEGORIES:Instagram Lives
ATTACH;FMTTYPE=image/png:https://ravenwerksguild.com/wp-content/uploads/2023/12/loom-knitt-hats.png
END:VEVENT
BEGIN:VEVENT
DTSTART;VALUE=DATE:20230409
DTEND;VALUE=DATE:20230410
DTSTAMP:20260425T174742
CREATED:20230329T002007Z
LAST-MODIFIED:20230329T002007Z
UID:362-1680998400-1681084799@ravenwerksguild.com
SUMMARY:Easter
DESCRIPTION:Happy Easter! \nCheck out these Easter related posts in our blog to get in the seasonal spirit! \n\nDecorating Eggs: An Ancient and Timeless Art
URL:https://ravenwerksguild.com/event/easter/
CATEGORIES:Holidays
ATTACH;FMTTYPE=image/jpeg:https://ravenwerksguild.com/wp-content/uploads/2023/03/bermix-studio-uxlTEUNpk1w-unsplash-scaled.jpg
END:VEVENT
BEGIN:VEVENT
DTSTART;VALUE=DATE:20230320
DTEND;VALUE=DATE:20230321
DTSTAMP:20260425T174742
CREATED:20230314T021325Z
LAST-MODIFIED:20230329T001526Z
UID:320-1679270400-1679356799@ravenwerksguild.com
SUMMARY:Ostara
DESCRIPTION:Check out all our Ostara related posts leading up to celebrating this Spring! \n\nOstara- History & Ways to Celebrate\nFloral Milk Baths- Making\, Soaking\, & Relaxing\nHow to Make Mozzarella Stuffed Rosemary Sourdough Pretzel Rolls\nDecorating Eggs: An Ancient and Timeless Art
URL:https://ravenwerksguild.com/event/ostara/
CATEGORIES:Holidays
ATTACH;FMTTYPE=image/png:https://ravenwerksguild.com/wp-content/uploads/2023/03/Ostara.png
END:VEVENT
END:VCALENDAR